BEGIN:VCALENDAR
VERSION:2.0
PRODID:-//wp-events-plugin.com//7.2.2.1//EN
TZID:Europe/Paris
X-WR-TIMEZONE:Europe/Paris
BEGIN:VEVENT
UID:104@montagnerando-fonsegrives.com
DTSTART;TZID=Europe/Paris;VALUE=DATE:20171020
DTEND;TZID=Europe/Paris;VALUE=DATE:20171021
DTSTAMP:20171018T153227Z
URL:https://montagnerando-fonsegrives.com/events/vendredi-20-octobre-repas
 -dautomne-formule-auberge-espagnole-salle-de-la-marne-quint-fonsegrives/
SUMMARY:Vendredi 20 Octobre = Repas d’Automne. Formule Auberge espagnole 
 – Salle de la Marne Quint-Fonsegrives
DESCRIPTION:Le Bureau vous informe \n\n... Le repas d’Automne n’aura pa
 s lieu (il est trop tôt pour se lancer dans les festivités).\n\nNous com
 ptons sur votre compréhension.\n\n&nbsp\;
CATEGORIES:Festivités
END:VEVENT
BEGIN:VTIMEZONE
TZID:Europe/Paris
X-LIC-LOCATION:Europe/Paris
BEGIN:DAYLIGHT
DTSTART:20170326T030000
TZOFFSETFROM:+0100
TZOFFSETTO:+0200
TZNAME:CEST
END:DAYLIGHT
END:VTIMEZONE
END:VCALENDAR