BEGIN:VCALENDAR
VERSION:2.0
PRODID:-//wp-events-plugin.com//7.2.2.1//EN
TZID:Europe/Paris
X-WR-TIMEZONE:Europe/Paris
BEGIN:VEVENT
UID:148@montagnerando-fonsegrives.com
DTSTART;TZID=Europe/Paris;VALUE=DATE:20190706
DTEND;TZID=Europe/Paris;VALUE=DATE:20190708
DTSTAMP:20190620T195107Z
URL:https://montagnerando-fonsegrives.com/events/vendredi-5-au-dimanche-7-
 juillet-2019-sortie-du-week-end-de-fin-de-saison-en-covoiturage/
SUMMARY:Samedi 6 au Dimanche 7 juillet 2019 = WEEK-END en REFUGE au MAUPAS 
 SORTIE (en covoiturage)
DESCRIPTION:Lacs Bleu\, Charles &amp\; Célinda - Carte IGN : 1847 OT\nPo
 ur télécharger le topo\, cliquez ici\nLa fiche d'inscription\, cliquez i
 ci\n[sgpx gpx="/wp-content/uploads/gpx/9811045-track-1555274442-851.gpx"]\
 nPrésentation de la randonnée : Point de départ : Se garer sur le park
 ing de l’Auberge de Lis\nSe trouve à 161 kms de Quint- Fonsegrives – 
 2 heures environ.\nDepuis Luchon\, suivre la direction de Superbagnères (
 D125\, puis D 46)\, mais sans y aller : poursuivre jusqu'au terme de la D 
 46a en suivant la vallée du Lis. Se garer au parking près de l'auberge\,
  avant de parvenir à la centrale électrique.\nCoordonnées GPS : LAT/LN
 G 42 \;73647 / 0\,55606 – alt. 1135 m\nLe parcours : Randonnée sur 2 
 jours\n\n\n 	Premier jour : Distance : 7\,1 kms\, dénivelé : 1296 m\, 
 Durée : 4h 30\n 	Deuxième jour : Distance : 10\,5 kms\, dénivelé :
  +170 m\, - 1450 m Durée : 4h 00.\n\nRandonnée sur 2 jours le 6 &amp\; 
 7 Juillet 2019.\nL’objectif de cette randonnée est de découvrir les La
 cs Bleu\, Charles &amp\; Célinda en deux étapes :\nDépart de l’auber
 ge du Lis pour rejoindre le refuge du MAUPAS le premier jour.\nNuitée au 
 Refuge du MAUPAS\, puis retour le second jour vers le parking via les Lacs
  Bleu\, Charles et Célinda.\nMétéo : 08 99 71 02 31.   Secours : 11
 2.
END:VEVENT
BEGIN:VTIMEZONE
TZID:Europe/Paris
X-LIC-LOCATION:Europe/Paris
BEGIN:DAYLIGHT
DTSTART:20190331T030000
TZOFFSETFROM:+0100
TZOFFSETTO:+0200
TZNAME:CEST
END:DAYLIGHT
END:VTIMEZONE
END:VCALENDAR