BEGIN:VCALENDAR
VERSION:2.0
PRODID:-//wp-events-plugin.com//7.2.2.1//EN
TZID:Europe/Paris
X-WR-TIMEZONE:Europe/Paris
BEGIN:VEVENT
UID:190@montagnerando-fonsegrives.com
DTSTART;TZID=Europe/Paris:20200207T200000
DTEND;TZID=Europe/Paris:20200207T230000
DTSTAMP:20200105T132208Z
URL:https://montagnerando-fonsegrives.com/events/vendredi-7-fevrier-20h-as
 semblee-generale-pour-lannee-2019-de-la-section-salle-de-la-marne-quint-fo
 nsegrives/
SUMMARY:Vendredi 7 Février 20H = ASSEMBLÉE GÉNÉRALE pour l’année 201
 9 de la Section (Salle de la Marne / Quint-Fonsegrives)
DESCRIPTION:Début de l’AG à 20 h 30 – Présence à 20 h 00 recommand
 ée – Pot de l’amitié avec les participants à la fin de l’AG.\nOrd
 re du jour : mot du président / rapport moral et d’activités / rapport
  financier / renouvellement du bureau / questions des participants / pot d
 e l’amitié\nSi vous avez des questions\, remarques\, propositions\, etc
 . faites-les nous connaître.
CATEGORIES:Réunion
END:VEVENT
BEGIN:VTIMEZONE
TZID:Europe/Paris
X-LIC-LOCATION:Europe/Paris
BEGIN:STANDARD
DTSTART:20191027T020000
TZOFFSETFROM:+0200
TZOFFSETTO:+0100
TZNAME:CET
END:STANDARD
END:VTIMEZONE
END:VCALENDAR