BEGIN:VCALENDAR
VERSION:2.0
PRODID:-//wp-events-plugin.com//7.2.2.1//EN
TZID:Europe/Paris
X-WR-TIMEZONE:Europe/Paris
BEGIN:VEVENT
UID:139@montagnerando-fonsegrives.com
DTSTART;TZID=Europe/Paris:20190208T000000
DTEND;TZID=Europe/Paris:20190208T000000
DTSTAMP:20180516T203225Z
URL:https://montagnerando-fonsegrives.com/events/vendredi-8-fevrier-2019-a
 ssemblee-generale-de-la-section-montagne-rando/
SUMMARY:Vendredi 8 Février 2019 = Assemblée Générale de la Section Mont
 agne Rando
DESCRIPTION:ASSEMBLÉE GÉNÉRALE pour l’année 2019 de la Section (Salle
  de la Marne / Quint-Fonsegrives)\nDébut d’AG 20h30. Présence à 20 h 
 00 recommandée– Pot de l’amitié avec les participants en fin d’AG.
 \nDes informations spécifiques vous seront données ultérieurement.
CATEGORIES:Réunion
LOCATION:\, \, 
X-APPLE-STRUCTURED-LOCATION;VALUE=URI;X-ADDRESS=\, ;X-APPLE-RADIUS=100;X-TI
 TLE=:geo:0,0
END:VEVENT
BEGIN:VTIMEZONE
TZID:Europe/Paris
X-LIC-LOCATION:Europe/Paris
BEGIN:STANDARD
DTSTART:20181028T020000
TZOFFSETFROM:+0200
TZOFFSETTO:+0100
TZNAME:CET
END:STANDARD
END:VTIMEZONE
END:VCALENDAR