BEGIN:VCALENDAR
VERSION:2.0
PRODID:-//wp-events-plugin.com//7.2.2.1//EN
TZID:Europe/Paris
X-WR-TIMEZONE:Europe/Paris
BEGIN:VEVENT
UID:211@montagnerando-fonsegrives.com
DTSTART;TZID=Europe/Paris;VALUE=DATE:20210926
DTEND;TZID=Europe/Paris;VALUE=DATE:20210927
DTSTAMP:20210920T204229Z
URL:https://montagnerando-fonsegrives.com/events/week-end-a-erce-dimanche-
 26-septembre-estives-derce-et-plateau-dajeou-1120m/
SUMMARY:Week-End à ERCE - Dimanche 26 Septembre : Estives d'Ercé et plate
 au d'Ajéou (1120m)
DESCRIPTION:\n\n\n\n\n\n\n\n_______________________________________________
 ________________________\n\n\n\n\n\nEstives d’Ercé &amp\; Plateau d’
 Ajéou (1120m).\n\n\n\nCarte IGN 2048 OT\n\nTélécharger le topo - les t
 races GPX des Marcheurs - les traces GPX des Randonneurs\n\n\n\n\n\n\n\n\
 n\nPrésentation de la randonnée\n\n\n\n\n\nPoint de départ :\n\n\n\n\n\
 n\n\n\n\n\nDépart du centre d’Ercé.\nDistance : depuis Quint-Fonsegr
 ives 132 kms – 1h45.\nCoordonnées GPS : 42\,84515 – 1\,29409 - Alt :
  628 m.\n\n\n\n\n\n\n\n\n\n\n\n\n\n\n\n\n\n\n\n\n\n\n\n\n\nLe Parcours :\n
 \n\n\n\n\n 	Marcheurs : boucle sur les estives d’Ercé avec un A/R jusq
 u’au gouffre d’Ajéou.\nDistance 12\,1 kms\, dénivelé : 610 m\, T
 emps : 5h 30.\n\n 	Randonneurs : Boucle sur les estives d’Ercé et le p
 lateau d’Ajéou.\nDistance 15\,8 kms\, dénivelé : 770 m\, Temps : 6
  h 00.\n\n\n\n\n\n\n\n\n\n\n\n\n\n\n\n\n\n\n\n\n\n\n\n\n\n\n\n\n\n\n\n\n\n
 \n\n\n\n\n\n\n\n\n\n\n\n\n\n\n\n\n\nDécouverte d’estives\, de moyenne 
 altitude\, toujours utilisées et de beaux points de vue sur la vallée d
 ’Ercé.\nCe domaine agro-pastoral\, autrefois très actif\, est parsem
 é de granges à pignons en pas d’oiseaux.\nLe plateau d’Ajéou a g
 ardé l’une des particularités architecturales de la Gascogne Pyrén
 éennes : il s’agit de granges dont les pignons sont taillés en gradi
 n protégés par des ardoises. Ces escaliers portent le nom de penaus (p
 as d’oiseaux).\nCe mode de construction facilitait le changement de chau
 me et protégeait de la pluie la jonction entre le pignon et le toit\, e
 ́vitant ainsi le pourrissement précoce de ce dernier. Les hypothèses 
 ne manquent pas sur les utilités possibles de ces étranges toitures\, 
 mais on aurait tort de négliger le simple effet de mode entre paysans-ba
 ̂tisseurs de la même région.\n\n\n\n\n\n\n\n\n\n\n___________________
 ____________________________________________________\n\n\n\n\n\n\n\n\n\n\n
 \n\n\n\n\n\n\n\n\n\n\n\n\n\n\n\n\n\n\n\n\n\n\n\n\n\n\n\n\n\n\n\n\n\n\n\n\n
 \n\n\n\n\n\n\n\n\n\n\n\n\n\n\n\n\n\n\n\n\n\n\n\n\n\n\n\n\n\n\n\n\n\n\n\n\n
 \n\n\n\n\n\n\n\n\n\n\n\n\n\n\n\n\n\n\n\n\n\n\n\n\n\n\n\n\n\n\n\n\n\n\n\n\n
 \n\n\n\n\n\n\n\n\n\n\n\n\n\n\n\n\n\n\n\n\n\n\n&nbsp\;\n\n\n\n\n\n\n\n\n\n\
 n\n\n\n\n\n\n\n\n\n\n\nMETEO : 08 99 71 02 09 - Secours : 112 \n\n\n\n&nb
 sp\;
ATTACH;FMTTYPE=image/jpeg:https://montagnerando-fonsegrives.com/wp-content
 /uploads/2021/09/ajeou.jpeg
CATEGORIES:Rando
END:VEVENT
BEGIN:VTIMEZONE
TZID:Europe/Paris
X-LIC-LOCATION:Europe/Paris
BEGIN:DAYLIGHT
DTSTART:20210328T030000
TZOFFSETFROM:+0100
TZOFFSETTO:+0200
TZNAME:CEST
END:DAYLIGHT
END:VTIMEZONE
END:VCALENDAR