BEGIN:VCALENDAR
VERSION:2.0
PRODID:-//wp-events-plugin.com//7.2.2.1//EN
TZID:Europe/Paris
X-WR-TIMEZONE:Europe/Paris
BEGIN:VEVENT
UID:210@montagnerando-fonsegrives.com
DTSTART;TZID=Europe/Paris;VALUE=DATE:20210925
DTEND;TZID=Europe/Paris;VALUE=DATE:20210926
DTSTAMP:20210921T125025Z
URL:https://montagnerando-fonsegrives.com/events/week-end-a-erce-samedi-25
 -septembre-etang-dayes-ou-etang-bleu/
SUMMARY:Week-End à ERCE - Samedi 25 Septembre : Etang d'Ayes ou Etang Bleu
DESCRIPTION:\n\n\n\n\n\n\n\n_______________________________________________
 ________________________\n\n\n\n\n\nMarcheurs : Etang d’AYES depuis le C
 ol de la Core (1395 m)\n\n\n\nCarte IGN 2048 OT\n\nTélécharger le topo -
  les traces GPX des Marcheurs \n\n\n\n\n\n\n\n\n\nPrésentation de la ran
 donnée\n\n\n\n\n\nPoint de départ :\n\n\n\n\n\n\n\n\n\n\nDistance : 24 k
 ms d’ERCE– 0h30. (137 kms depuis Quint-Fonsegrives – 2h00)\nCoordonn
 ées GPS : 42\,85885 – 1\,10515 Alt : 1395 m\n\n\n\n\n\nDepuis ERCE\, d
 irection OUST puis SEIX et suivre l’indication Col de la Core. Se garer 
 sur le parking du sommet.\n\n\n\n\n\nDistance : 125 kms – 2h00\nCoordonn
 ées GPS : 42.84292 N/ 1.74664 E Alt. : 1490m.\n\n\n\n\n\n\n\n\n\n\n\n\n\n
 \n\n\nLe Parcours :\n\n 	\n\n\n\n\n\nA/R Marcheurs : par le GR 10 atteindr
 e le lac AYES.\nDistance 10 kms\, dénivelé : 550 m\, Temps : 5h 00.\nO
 ption lac d’Eychelle : 10 \,4 kms – 700 m.\n\n\n\n\n\n\n\n\n\n\n\n\n\n
 \n\n\n\n\n\n\n\n\n\n\n\n\n\n\n\n\n\n\n\n\n\n\n\n\n\n\n\n\n\n\n\n\n\n\n\n\n
 \n\nCet itinéraire qui suit le GR 10\, utilise le « Chemin de la libert
 é ».\nQuelques passages raides malgré le faible dénivelé.\nL’ut
 ilisation de chaussures hautes est conseillé compte-tenu d’espace roca
 illeux.\n\n\n\n\n\n\n\n\n\n\nLe chemin de la liberté :\n\nPendant la sec
 onde guerre mondiale\, et afin d’échapper aux nazis\, ce chemin fut un
 e voie de salut pour atteindre l’Espagne en passant notamment par le Mas
 sif du Mont Valier\, Juifs pourchassés\, résistances au Régime de Vi
 chy\, aviateurs abattus ou prisonniers évadés : ils seront plus de 300
 00 à utiliser cette voie naturelle.\n\n_________________________________
 ______________________________________\n\n\n\n\n\n\n\n\n\n\n\n\n\n\n\n\nRa
 ndonneurs : Etang du Garbet et Etang Bleu (1989m)\n\n\n\nCarte IGN 2148 OT
 \n\nTélécharger le topo - les traces GPX des Randonneurs \n\n\n\n\n\n\n
 \n\n\n\n\n\n\n\n\n\n\n\n\n\n\n\n\n\n\n\n\n\n\n\n\nPrésentation de la rand
 onnée\n\n\n\n\n\nPoint de départ :\n\n\n\n\n\n\n\n\n\n\n\n\n\n\n\n\n\n\n
 \n\n\n\n\n\n\n\nDepuis ERCE\, prendre la direction d’Aulus-les-Bains\, p
 uis direction col d’Agnès.\nSe garer après environ 4 kms de montée
  sur la droite de la route\, dans un virage en épingle à cheveux.\n\n\
 n\n\n\n\n\n\n\n\n\n\n\nDistance: 13 kms depuis le centre d’ERCE (ERCE se
  trouve à 146 Kms 2h00 de QUINT- FONSEGRIVES).\nCoordonnées GPS : 42\,
 77359 – 1\,70359 – 1140 m.\n\n\n\n\n\n\n\n\n\n\n\n\n\n\n\n\n\n\n\n\n\n
 \n\n\n\n\n\n\n\nLe Parcours :\n\n 	\n\n\n\n\n\nA/R Randonneurs : \nDistan
 ce 11 kms\, dénivelé : 900 m\, Temps : 5h 30.\n\n\n\n\n\n\n\n\n\n\n\n\
 n\n\n\n\n\n\n\n\n\n\n\n\n\n\n\n\n\n\n\n\n\n\n\n\n\n\n\n\n\n\n\n\n\n\n\n\n\
 n\n\n\n\n\n\n\n\n\n\n\nAu pied du Pic des trois Comtes\, le joli petit é
 tang Bleu entouré de névés émerveillera ce qui auront eu le courag
 e d'affronter le parcours exigeant depuis l'étang de Garbet.\nLes autres
 \, à l'instar des pêcheurs\, s'arrêteront sur les bords du magnifiqu
 e étang de Garbet pour savourer les plaisirs de la montagne. Pour ces de
 rniers le dénivelé sera de 600m sur un parcours sans difficulté.\n\n
 \n\n\n\n\n\n\n\n\n\n\n\n\nParcours bien balisé et sans difficulté jusq
 u'à l'étang du Garbet.\nAu-delà\, les pentes raides et les passages 
 un peu aériens le réserve aux randonneurs expérimentés.\nNe pas en
 treprendre la seconde partie du parcours\, entre l'étang du Garbet et l'
 étang Bleu\, par temps de pluie ou en cas de neige tardive.\n\n\n\n\n\n\
 n\n\n\n\n\n\n\n\n\n\n\n\n\n\n\nMETEO : 08 99 71 02 09 - Secours : 112 \n\
 n\n\n&nbsp\;
ATTACH;FMTTYPE=image/jpeg:https://montagnerando-fonsegrives.com/wp-content
 /uploads/2021/09/Garbet.jpeg
CATEGORIES:Rando
END:VEVENT
BEGIN:VTIMEZONE
TZID:Europe/Paris
X-LIC-LOCATION:Europe/Paris
BEGIN:DAYLIGHT
DTSTART:20210328T030000
TZOFFSETFROM:+0100
TZOFFSETTO:+0200
TZNAME:CEST
END:DAYLIGHT
END:VTIMEZONE
END:VCALENDAR