BEGIN:VCALENDAR
VERSION:2.0
PRODID:-//wp-events-plugin.com//7.2.2.1//EN
TZID:Europe/Paris
X-WR-TIMEZONE:Europe/Paris
BEGIN:VEVENT
UID:114@montagnerando-fonsegrives.com
DTSTART;TZID=Europe/Paris;VALUE=DATE:20180518
DTEND;TZID=Europe/Paris;VALUE=DATE:20180522
DTSTAMP:20180531T165830Z
URL:https://montagnerando-fonsegrives.com/events/week-end-andorre-vendredi
 -18-lundi-21-mai-2018/
SUMMARY:WEEK-END en ANDORRE du VENDREDI 18 au LUNDI 21 MAI 2018
DESCRIPTION:Vallée d’Incles.\nPrésentation de la randonnée : Point de 
 départ : Parking à Soldeu\, en face de l’hôtel Himalaya : depuis le P
 as de al Case prendre la direction d’Andorre la vieille\, puis à Soldeu
 \, parking sur la droite. Parking payant : 3 euros la journée. Se trouve 
 à 164 kms de Toulouse\, 2H15 de route. Coordonnées GPS : LAT/LNG 42.5822
 6 N / 1.63281 E\nLes différents parcours : • Boucle Marcheurs : Boucle 
 pour rejoindre la vallée d’Incles. Distance : 8 kms\, dénivelé : 450 
 m\, Durée : 3h45.\nBelle randonnée sur la vallée de Riu. Une montée un
  peu raide pour atteindre le refuge : compter environ 2h pour l’atteindr
 e. Le refuge (2170 m) offre une place exceptionnelle pour déjeuner : pano
 rama sur 360° des sommets environnants. Ce refuge est ouvert et permet\, 
 en cas de mauvaise temps\, de s’y réfugier.\nUn balisage jaune indique 
 le parcours. La vallée d'Incles possède une forme en « U » témoignant
  de son origine glaciaire1. Elle est orientée vers le nord-est et s'éten
 d sur environ 6 km depuis son entrée à Incles (1 748 m2\,3) jusqu'à la 
 frontière franco-andorrane matérialisée par le port d'Incles (2 262 m4)
 .\nLes sommets du versant ouest séparent la vallée d'Incles de celle de 
 Ransol et oscillent entre 2 500 m et 2 700 md'altitude avec du sud au nord
 4 : le cap de la Tosa d'Entor (2 506 m4)\, le pic de la Coma de Varilhes (
 2 760 m4)\, le pic de la Coume d'Enfer (2 730 m4) et le pic de Fontargenta
  (2 618 m4). Les sommets du versant oriental séparent la vallée d'Incles
  de l'Ariège au nord (pic de Siscaró et pic d'Escobes) et de la solana d
 'Andorre au sud. Météo : (00376)848853 (répondeur) . Secours : 112\n[sg
 px gpx="/wp-content/uploads/gpx/INCLES Marcheur.gpx"]\nPour télécharger 
 le topo\, cliquez ici\n\n\n\nVallée de Madriu.\nPrésentation de la rando
 nnée : Point de départ : Parking à L’Estany d’Englolasters : depuis
  le Pas de al Case prendre la direction d’Andorre la vieille. A l’entr
 ée d’Escaldes\, prendre à gauche au rond-point (Statue de cycliste en 
 son centre) et direction « Estany d’Engolasters » : montée de 5 kms a
 vant d’arriver au parking. L’arrivée de la traversée est 4 kms sous 
 ce parking (après passage d’un pont\, route à droite). Se trouve à 16
 4 kms de Toulouse\, 2H15 de route. Coordonnées GPS : LAT/LNG 42.51766 N 
 / 1.57075 E\nLes différents parcours : • Boucle Randonneurs : depuis le
  parking boucle pour atteindre le refuge de Fontverd. Distance : 13 kms\, 
 dénivelé : 610 m\, Durée : 5h30 • Traversée Marcheurs : Départ Esta
 ny d’Engolasters vers Obac de el Escaldes via la vallée de Madriu. Dist
 ance : 9\,1 kms\, dénivelé : 230 m positif_630 m négatif\, Durée : 3h 
 30.\nBelle randonnée sur la vallée de Madriu\, sans grande difficulté. 
 Etre bien chaussés notamment pour une longue descente au sentier empierr
 é : attention chemin glissant en cas de pluie. Très belle vue au « coll
  Jovell » sur deux vallées d’origine différente : vallée de Madriu f
 ormée par un glacier\, vallée de Claroll formée par érosion fluviale. 
 Beau site pour déjeuner à la pointe de la randonnée (début de descente
 ) au bout de 5 KMS de marche.\nLa vallée du Madriu-Perafita-Claror (Vall 
 del Madriu-Perafita-Claror en catalan) est une vallée glaciaire pyrénée
 nnesituée au sud-est de la principauté d'Andorre. C'est le seul site de 
 ce pays à être classé au patrimoine mondial de l'UNESCO. Il est égalem
 ent reconnu site Ramsar et classé catégorie VI par l'UICN La vallée cou
 vre une superficie de 42\,47 km2 ce qui représente 9 % de la superficie t
 otale d'Andorre. Adossée à la frontière entre Andorre et l'Espagne\, el
 le débouche après un fort dénivelé sur la vallée de la Valira\, princ
 ipale voie de communication de la Principauté. De haut en bas on distingu
 e un étage alpin\, un étage subalpin et un étage montagnard. Dotée d'u
 n système communal de gestion des terres vieux de 700 ans\, cette vallée
  est un exemple de la manière dont les habitants des hautes vallées pyr
 énéennes ont su gérer leur espace afin d'en optimiser les maigres resso
 urces. Météo : (00376)848853 (répondeur) . Secours : 112\n[sgpx gpx="/w
 p-content/uploads/gpx/gpx Madriu Marcheurs.gpx"][sgpx gpx="/wp-content/upl
 oads/gpx/gpx Madriu Randonneurs.gpx"]\nPour télécharger le topo\, clique
 z ici\n\n\n\nVallée de Riu\nPrésentation de la randonnée : Point de dé
 part : Parking de ELS PLANS (1840 m)\, près de trois maisons à volets ro
 uges : depuis le Pas de al Case prendre la direction d’Andorre la vieill
 e\, passer Canillo\, puis après 4 kms à gauche direction Ransol puis 1è
 re à gauche jusqu’au terminus. Se trouve à 167 kms de Toulouse\, 2H15 
 de route. Coordonnées GPS : LAT/LNG 42.58226 N / 1.63281 E\nLes différen
 ts parcours : • Boucle Marcheurs : Boucle passant par le refuge de la Va
 ll del Riu Distance : 8 kms\, dénivelé : 450 m\, Durée : 3h45.\nBelle r
 andonnée sur la vallée de Riu. Une montée un peu raide pour atteindre l
 e refuge : compter environ 2h pour l’atteindre. Le refuge (2170 m) offre
  une place exceptionnelle pour déjeuner : panorama sur 360° des sommets 
 environnants. Ce refuge est ouvert et permet\, en cas de mauvaise temps\, 
 de s’y réfugier. Un balisage de cercle jaune indique le parcours. la va
 llée du Riu constitue un paysage très intéressant \; elle accueille l'u
 n des plus grands lacs d’Andorre\, de 4 ha.\nSon dénivelé rend ce sent
 ier très difficile si vous montez jusqu’au Lac (750 m\, 5\,7 kms aller)
 \nLe sentier de randonnée de la vallée du Riu démarre dans la zone des 
 Plans\, dans la paroisse de Canillo\, derrière des maisons en pierre\, o
 ù se trouve un panneau d'indications. Le sentier est d'abord doux\, à c
 ôté de murs en pierre sèche \; il passe par la rivière Forat de Rius e
 t gagne en altitude tandis qu'il s'enfonce dans le bois de la vallée du R
 iu\, peuplé de pins de montagne\, de bouleaux\, de trembles et de saules.
  Après le bois\, le sentier continue à monter en direction nord jusqu'à
  la cabane de la vallée du Riu\, un refuge pouvant accueillir 8 personnes
  situé à 2 245 m : lieu idéal pour déjeuner. Météo : (00376)848853 (
 répondeur) . Secours : 11\n[sgpx gpx="/wp-content/uploads/gpx/gpx Riu Mar
 cheurs.gpx"]\nPour télécharger le topo\, cliquez ici\n\n\n\nVallée de R
 iu\nPrésentation de la randonnée : Point de départ : Parking à Canillo
 \, près de l’église : depuis le Pas de al Case prendre la direction d
 ’Andorre la vieille. Se trouve à 167 kms de Toulouse\, 2H15 de route. C
 oordonnées GPS : LAT/LNG 42.57139 N / 1.6082 E\nLes différents parcours 
 : • Boucle Randonneurs : Boucle reliant le Pic de Torradella avec un ret
 our par l’Aldosa Distance : 11\,5 kms\, dénivelé : 1040 m\, Durée : 6
 h15.\nBelle randonnée dans la vallée de Riu. A partir de l’église de 
 Canillo\, église Sant Joan de Caselles est une église romane à clocher-
 tour du XIe siècle dont l'édifice est classé Bé d'interès cultural pa
 r l'État andorran\, on rejoint le Pic de la Torradella (2543 m) par un ch
 emin assez pentu. Descente agréable en forêt : prendre garde de ne pas g
 lisser en cas de pierres humides. Météo : (00376)848853 (répondeur) . S
 ecours : 112\n[sgpx gpx="/wp-content/uploads/gpx/gpx Riu Randonneurs.gpx"]
 \nPour télécharger le topo\, cliquez ici\n\n\n\nHébergement en HÔTEL 4
  *\n- 3 journées en pension complète :\nvendredi 18 mai = pot de bienve
 nue et dîner\nsamedi 19 mai = petit-déjeuner / pique-nique de midi / dî
 ner\ndimanche 20 mai = petit-déjeuner / pique-nique de midi / dîner\nlun
 di 21 mai = petit-déjeuner / pique-nique de midi\n- Couchage en chambre d
 ouble\navec sanitaire et linge fourni\n- Déplacements en covoiturage orga
 nisé par les inscrits\n - Balades et randonnées variées\, prévues pour
  tout le monde\, encadrées par des guides\nModalités d’Inscription po
 ur Validation :\n* Versement AVANT le 20 JANVIER 2018\nd’un chèque de R
 ÉSERVATION de 50 € par personne à l’ordre du « Foyer Rural de Quin
 t-Fonsegrives Section Montagne » [Fchèque encaissé à réception]\nLe 
 prix final du séjour. [165€] comprend la pension complète\, les guides
  accompagnateurs et une assurance annulation (suivant les conditions du co
 ntrat)\n*Le solde du prix sera à régler par chèque AVANT le 30 AVRIL 20
 18\n[F chèque encaissé après le séjour]\n* Des informations complémen
 taires vous seront fournies concernant le covoiturage\, les aspects matér
 iels du séjour\, le programme des balades et randonnées\, etc…\nINSCRI
 VEZ-VOUS AVANT le 20 JANVIER 2018\n (séjour limité à 60 personnes\, dan
 s l’ordre des inscriptions)\n en envoyant le Coupon-Réponse ci-dessous 
 accompagné de votre chèque de réservation à\n Michèle BOTTAN 48 Rue P
 échestier 31130 Quint-Fonsegrives tél. = 05.34.66.37.54\nPour téléchar
 ger le bulletin d'inscription\, cliquez ici
END:VEVENT
BEGIN:VTIMEZONE
TZID:Europe/Paris
X-LIC-LOCATION:Europe/Paris
BEGIN:DAYLIGHT
DTSTART:20180325T030000
TZOFFSETFROM:+0100
TZOFFSETTO:+0200
TZNAME:CEST
END:DAYLIGHT
END:VTIMEZONE
END:VCALENDAR