BEGIN:VCALENDAR
VERSION:2.0
PRODID:-//wp-events-plugin.com//7.2.2.1//EN
TZID:Europe/Paris
X-WR-TIMEZONE:Europe/Paris
BEGIN:VEVENT
UID:70@montagnerando-fonsegrives.com
DTSTART;TZID=Europe/Paris;VALUE=DATE:20160701
DTEND;TZID=Europe/Paris;VALUE=DATE:20160704
DTSTAMP:20171205T164913Z
URL:https://montagnerando-fonsegrives.com/events/week-end-de-fin-de-saison
 -a-saint-lary-du-3-au-5-juillet/
SUMMARY:Week-end de fin de saison à Saint Lary du 1 au 3 juillet
DESCRIPTION:PIC DE NEOUVIELLE (3091 m) Carte IGN : 1748 ET\nPrésentation d
 e la randonnée : Point de départ : Parking d’Aubert. Depuis Saint Lary
  suivre la route des Lacs (D929) passant par Fabian. Pendant les mois de j
 uillet et Août\, la route entre Orédon (parking payant) et Aubert est r
 églementée : entre 9h30 et 18h\, la circulation automobile y est interdi
 te. Un système de navette fonctionne dans cet intervalle de temps. Pour u
 n prix modique\, vous pouvez l’utiliser (rotation d’une demi-heure). E
 n dehors de cette plage horaire\, vous avez la possibilité d’emprunter 
 cette route\, mais avec obligation de stationnement au seul parking d’Au
 bert.\nLe parcours : réservé à des randonneurs expérimentés • Boucl
 e pour Randonneurs : 9\,4 kms\, dénivelé : 950 m Temps estimé : 5h.\nLe
  Pic de Néouvielle n’est pas le plus haut\, cependant il trône au-dess
 us des lacs et lance ses arêtes granitiques comme pour mieux asseoir sa d
 omination. Ses glaciers ont disparu\, mais son modelé est l’exemple typ
 e des formes dégagées par l’érosion glacière. Ne sous-estimez pas so
 n ascension\, les neiges dures et persistantes de sa partie supérieure n
 écessitent souvent l’usage des crampons et du piolet. De même\, nous r
 ecommandons de bien repérer les abords de la Brèque de Barris qui par br
 ouillard à la descente demandent un peu de nez.\n[sgpx gpx="/wp-content/u
 ploads/gpx/néouviellegps.gpx"]\nPour télécharger le topo\, cliquez ici
 \nGranges de Moudang-Source de la Reine-Lac d’Héchempy. Carte IGN : 174
 8 ET \nPrésentation de la randonnée : Point de départ : Parking Pont du
  Moudang. Depuis Saint Lary suivre la D929 en direction du tunnel d’Arag
 nouet. Le parking se trouve à 1\,5kms après Eget-Cité.\nLes différents
  parcours : • Boucle pour Baladeurs : Les Granges de Moudang\, 11kms A/R
 \, dénivelé : 490 m • Boucle pour Marcheurs : La source de la Reine\, 
 15\,7 kms A/R\, dénivelé : 800 m • Boucle pour Randonneurs : Lac d’H
 echempy\, 20\,8 kms\, dénivelé : 1240 m.\nLa montée aux granges (22 au 
 total\, dont une partie habitées durant la saison estivale) est une prome
 nade agréable où l’on passe d’une gorge ombragée à une haute vall
 ée ouverte. Vous pourrez vous rafraîchir à la fontaine qui se trouve au
  sud du hameau. Le lac (où les pêcheurs pourront trouver des truites far
 io) vous font côtoyer les crêtes lumineuses mais nécessitent une bonne 
 endurance. Avant l’arrivée au lac\, après le passage à un pylône rou
 illé\, vous aurez peut-être la chance de voir des isards. Il faut compte
 r 3h pour les granges (A/R)\, 5h pour la Source et 8h pour le lac.\n[sgpx 
 gpx="/wp-content/uploads/gpx/GPS HECHEMPY.gpx"]\nPour télécharger le top
 o\, cliquez ici\nLes Laquettes-Lacs d’Aubert &amp\; d’Aumar-Col de Ma
 damète Carte IGN : 1748 ET \nPrésentation de la randonnée : Point de d
 épart : Parking du lac d’Orédon (payant). Depuis Saint Lary\, suivre l
 a D929 (la route des lacs) passant par Fabian.\nLes différents parcours :
  • Boucle pour Baladeurs : Les Laquettes\, 7\,5 kms A/R\, dénivelé : 2
 50 m (2h30) • Boucle pour Marcheurs : Lacs d’Aubert et d’Aumar\, 10\
 ,7 kms dénivelé : 500 m (4h) • Boucle pour Randonneurs : Col de Madam
 ète\, 13\,7 kms \, dénivelé : 800 m.\nLes Laquettes sont l’expression
  même de l’originalité du massif : petites étendues calmes entourées
  de pins et de pelouses avec\, en arrière-plan\, les crêtes nues de gran
 it. Ce circuit\, accessible à tous est un « raccourci » de l’ambiance
  que l’on retrouve sur tout le Néouvielle. Mais la renommée de cette b
 alade fait que vous ne serez pas seuls à en apprécier les beautés. En p
 oursuivant la montée vers le col de Madamète\, vous pourrez apprécier l
 a beauté des lacs d’Aubert et d’Aumar. Le retour vers le parking d’
 Orédon se fera en empruntant un sentier longeant l’autre rive du Lac d
 ’Aumar puis nous terminerons la boucle en retrouvant le GR 10. Pour les 
 plus courageux\, l’ascension jusqu’au col de Madamète (2509 m)\, vous
  permettra d’avoir une vue plongeante sur les lacs et de mieux découvri
 r le paysage environnant.\n[sgpx gpx="/wp-content/uploads/gpx/gpx laquette
 s.gpx"]\nPour télécharger le topo\, cliquez ici\n\n\n\nLe séjour à St
  Lary Soulan du 01 au 03 Juillet 2016 se déroulera à la Résidence le N
 éouvielle. Cette Résidence se situe au Centre de St Lary.  Le Prix fix
 é pour ces 3 Jours / 2 nuits en pension complète.\nLe prix comprend :\n-
  L'hébergement en chambre de 3 à 4 à 5 lits\, toutes équipées de sani
 taires privatifs\, lits faits à l'arrivée et linge de toilette fourni.\n
 - Taxe de séjour par nuitée et par personne\n- un 1/4 de vin par personn
 e et par repas\n- La restauration en pension complère du dîner du 01 Jui
 llet 2016 au déjeuner du 03 Juillet 2016\n1° Hébergement : - adresse =
  Fondation Jean-Moulin\, « Le Néouvielle » Rue Grand-Pré 65170 St-La
 ry-Soulan\nTél. = 05.62.39.43.88\n- chambres disponibles à partir de 15 
 h\, s’adresser à l’accueil\n- draps et linge de toilette fournis\n- a
 péritif discret offert par la Section (dans une salle) le vendredi 1er  
 juillet à partir de 19 h.\nautres consommations à votre charge ainsi que
  l’apéritif au bar le samedi 2 juillet\n- infos pour le lendemain penda
 nt l’apéritif\n- repas à 20 h.\n2° Randonnées : Lors de ce séjour\,
  la rando du Pic du Néouvielle est prévue en complément de la randonné
 e du dimanche\, sous certaines conditions :\nA savoir:  1/ Minimum 5 Per
 sonnes\n2/ Maximum 8 Personnes\n3/ Conditions météorologiques favorables
 \n4/ Crampons obligatoires\n5/ Casque conseillé.\nUn animateur unique (Ja
 cques VIGUIE) sera chargé d'encadrer cette randonnée.\nLe programme des 
 autres randonnées avec les topos correspondants sera disponible sur le si
 te.\n3° Covoiturage (rappel): La Section n’organise pas le covoiturage
  mais se contente de mettre en contact des conducteurs qui accepteraient d
 e prendre des passagers et ces passagers.\nQue les chauffeurs volontaires 
 pour prendre des passagers se fassent connaître (avec le nombre de places
  disponibles) \; nous les en remercions par avance\nDès que vous vous ê
 tes mis d’accord pour le covoiturage\, informez-nous le plus tôt possib
 le.\nLes inscriptions sont closes.
LOCATION:Week-end de fin de saison à Saint Lary\, Saint Lary\, Saint Lary\
 , France
GEO:43.717951;0.47637699999995675
X-APPLE-STRUCTURED-LOCATION;VALUE=URI;X-ADDRESS=Saint Lary\, Saint Lary\, F
 rance;X-APPLE-RADIUS=100;X-TITLE=Week-end de fin de saison à Saint Lary:g
 eo:43.717951,0.47637699999995675
END:VEVENT
BEGIN:VTIMEZONE
TZID:Europe/Paris
X-LIC-LOCATION:Europe/Paris
BEGIN:DAYLIGHT
DTSTART:20160327T030000
TZOFFSETFROM:+0100
TZOFFSETTO:+0200
TZNAME:CEST
END:DAYLIGHT
END:VTIMEZONE
END:VCALENDAR