BEGIN:VCALENDAR
VERSION:2.0
PRODID:-//wp-events-plugin.com//7.2.2.1//EN
TZID:Europe/Paris
X-WR-TIMEZONE:Europe/Paris
BEGIN:VEVENT
UID:192@montagnerando-fonsegrives.com
DTSTART;TZID=Europe/Paris;VALUE=DATE:20200529
DTEND;TZID=Europe/Paris;VALUE=DATE:20200602
DTSTAMP:20200211T205607Z
URL:https://montagnerando-fonsegrives.com/events/week-end-de-pentecote-a-t
 orla-vallee-dordesa-du-vendredi-29-mai-au-lundi-1er-juin-2020/
SUMMARY:WEEK-END de PENTECÔTE à TORLA (Vallée d’Ordesa) du Vendredi 29
  mai au Lundi 1er Juin 2020
DESCRIPTION:RÉSERVATION avant le 30mars 2020 pour les 50 premiers inscrits
  par versement d’un chèque de 60€\nPour télécharger la fiche d'insc
 ription\, cliquez ci
CATEGORIES:Rando
END:VEVENT
BEGIN:VTIMEZONE
TZID:Europe/Paris
X-LIC-LOCATION:Europe/Paris
BEGIN:DAYLIGHT
DTSTART:20200329T030000
TZOFFSETFROM:+0100
TZOFFSETTO:+0200
TZNAME:CEST
END:DAYLIGHT
END:VTIMEZONE
END:VCALENDAR