BEGIN:VCALENDAR
VERSION:2.0
PRODID:-//wp-events-plugin.com//7.2.2.1//EN
TZID:Europe/Paris
X-WR-TIMEZONE:Europe/Paris
BEGIN:VEVENT
UID:131@montagnerando-fonsegrives.com
DTSTART;TZID=Europe/Paris;VALUE=DATE:20180629
DTEND;TZID=Europe/Paris;VALUE=DATE:20180702
DTSTAMP:20180531T165537Z
URL:https://montagnerando-fonsegrives.com/events/week-end-montagne-a-vendr
 edi-29-juin-dimanche-1-juillet-2018/
SUMMARY:WEEK-END en MONTAGNE à AUCUN du VENDREDI 29 JUIN au DIMANCHE 1 JUI
 LLET 2018
DESCRIPTION:Pointe de Surgatte - Cartes IGN : 1647 ET &amp\; 1647 OT\nPrés
 entation de la randonnée : Point de départ : A la sortie d’Arrens-Mars
 ous\, laisser la route du lac d’Estaing\, s’engager sur la route du ba
 rrage du Tech. Après 500m environ\, se garer sur un petit parking sur la 
 gauche de la route (D150)\, après la chapelle de Pouey Laun. Se trouve à
  206 kms de Toulouse\, 2H30 de route. (3\,6 kms depuis Aucun). Coordonnée
 s GPS : LAT/LNG 42.949688° / 0.218674°\nLe parcours : • Aller/Retour R
 andonneurs : Distance : 14\,03 kms\, dénivelé : 1170 m\, Durée : 6h45\n
 La pointe de Surgatte (1780 m) est un joli éperon rocheux qui offre un ma
 gnifique panorama à 360°. Une randonnée agréable sous les pentes du Ga
 bizos au milieu des troupeaux en été. La Pointe de Surgatte vous propose
 ra\, l’un des plus beaux panoramas du Val d’Azun. Du Balaïtous aux cr
 êtes de Pan en passant par les villages en fond de vallée\, le belvédè
 re est magnifique par beau temps. Cette pointe n’a rien de dangereux en 
 soit mais\, les personnes qui craignent la sensation de vide peuvent s’a
 rrêter 30 m avant le sommet. Météo : 08 99 71 02 65. Secours : 112\n[sg
 px gpx="/wp-content/uploads/gpx/GPX Pointe de Surgatte.gpx"]\nPour téléc
 harger le topo\, cliquez ici\n\n\n\nLe Mont de Gez - Cartes IGN : 1647 ET\
 nPrésentation de la randonnée : Point de départ : Départ depuis la Pla
 ce du Foirail d’Argelès-Gazost. Se trouve à 196 kms de Toulouse\, 2H10
  de route. (9 kms d’Aucun). Coordonnées GPS : LAT/LNG 43.006747° / 0.1
 008° Alt. 464 m.\nLe parcours : • Boucle Marcheurs : Distance : 12\,21 
 kms\, dénivelé : 660 m\, Durée : 5h05\nA l’Ouest d’Argelès-Gazost\
 , un très joli circuit pas trop difficile sur des sentiers très bien ent
 retenus et qui nous propose deux points de vue\, sur la vallée du Gave de
  Pau\, et une vue à 360° sur les Pyrénées. Prévoir de bonnes chaussur
 es et prendre garde lors de la descente sur Argelès-Gazost par temps de p
 luie. Météo : 08 99 71 02 65. Secours : 112.\n[sgpx gpx="/wp-content/upl
 oads/gpx/GPX Mont de Gez.gpx"]\nPour télécharger le topo\, cliquez ici\n
 \n\n\nRefuge de Larribet\, Lacs de Batcrabere &amp\; Micoulaou - Cartes IG
 N : 1647 OT\nPrésentation de la randonnée : Point de départ : Parking d
 u plan d’Aste\, près de la maison du Parc : depuis Aucun\, joindre Arre
 ns Marsous puis route d’Aste (D105) jusqu’à son terminus. Se trouve 
 à 215 kms de Toulouse\, 2H15 de route. (3\,5 kms de l’hôtel Le Picou 
 à Aucun.) Coordonnées GPS : LAT/LNG\n42° 52’ 0.97’’ N / 0° 16' 0
 .23'' E\nLes différents parcours : • Boucle Marcheurs : A/R du plan d
 ’Aste (1470 m) aux lacs de Batcrabère (2182 m) Distance : 11 kms (lac i
 nférieur) ou 12\,4 kms (lac supérieur)\, dénivelé : 600 ou 712 m\, Dur
 ée : 4h15 ou 5h00. • Boucle Randonneurs : A/R du Plan d’Aste (1470 m)
  aux lacs de Micoulaou (2302 m) Distance : 13\,5 kms\, dénivelé : 832 m\
 , Durée : 5h45\nCette randonnée propose la découverte de plusieurs lacs
  au cours de l’itinéraire. Pour les marcheurs\, deux possibilités de t
 erminus : lac inférieur ou supérieur de Batcrabère. Les lacs de Batcrab
 ère sont nichés dans un cirque au pied d’un rempart constitué par le 
 Balaitous (3144 m)\, le Pic Balas (2974 m) et le Pic d’Artouste (2816 m)
 . Le lac supérieur de Batcrabère a une profondeur de 30 m ayant une surf
 ace de 6\,8 ha et pour les amoureux de la pêche quelques saumons de fonta
 ine\, cristivomers ou truites fario feront leur joie. Météo : 08 99 71 0
 2 65. Secours : 112\n[sgpx gpx="/wp-content/uploads/gpx/gpx lac de batcrab
 ère.gpx"]\nPour télécharger le topo\, cliquez ici\n\n\n\n\nHÉBERGEMENT
  limité à 45 personnes : - Hôtel Le Picors Chambres de 2 ou 3 personnes
 \nPiscine\, SPA et mini-Golf gratuit - En demi-pension\nDîners vendredi s
 oir et samedi soir\nPetits déjeuners Samedi et dimanche matin - Pour les 
 pique-niques\, possibilité de se ravitailler à Arrens (2\,5 kms) ou Arge
 lès-Gazost (11 kms) - Possibilité de prolonger son séjour par négociat
 ion individuelle avec le gérant\nTARIFS : - 115 euros par personne - Piqu
 e-niques et consommations personnelles à charge des participants\nDÉPLAC
 EMENT en COVOITURAGE : La Section Montagne-Rando n’organise pas le covoi
 turage mais pourra mettra en relation les chauffeurs et les passagers éve
 ntuels\nACTIVITÉS : Randonnées\, marches nordiques et balades pour tout 
 niveau : Baladeurs / Marcheurs / Randonneurs\nMODALITÉS d’INSCRIPTION :
  - Versement avant le 31 mars 2018 d’un chèque d’arrhes de 40 euros p
 ar personne A l’ordre de « Foyer Rural de Quint-Fonsegrives Section Mon
 tagne » - Le solde vous sera demandé ultérieurement.\nINFORMATIONS : De
 s informations complémentaires seront fournies aux inscrits concernant le
  covoiturage\, les aspects matériels du séjour\, le programme des parcou
 rs proposés\, les topos\, les Animateurs etc…\nINSCRIVEZ-VOUS AVANT LE 
 31 MARS 2018 (séjour limité à 45 personnes).\n Pour télécharger le bu
 lletin d'inscription\, cliquez ici
END:VEVENT
BEGIN:VTIMEZONE
TZID:Europe/Paris
X-LIC-LOCATION:Europe/Paris
BEGIN:DAYLIGHT
DTSTART:20180325T030000
TZOFFSETFROM:+0100
TZOFFSETTO:+0200
TZNAME:CEST
END:DAYLIGHT
END:VTIMEZONE
END:VCALENDAR